BEGIN:VCALENDAR
VERSION:2.0
PRODID:-//wp-events-plugin.com//7.2.3.1//EN
BEGIN:VEVENT
UID:9473@rendsburg-eckernfoerde-aktuell.de
DTSTART;TZID=Europe/Berlin:20260502T160000
DTEND;TZID=Europe/Berlin:20260502T173000
DTSTAMP:20260424T122816Z
URL:https://rendsburg-eckernfoerde-aktuell.de/Veranstaltungen/dirty-dancin
 g/
SUMMARY:Dirty Dancing
DESCRIPTION:\n\n\n\n\n\n\n\n\nDer leidenschaftliche Klassiker voller Emotio
 nen\, Musik und unvergesslicher Momente hat auch fast 40 Jahre nach seinem
  Erscheinen nichts von seinem Zauber eingebüßt! Vor der Kulisse eines so
 mmerlichen Ferienresorts entfaltet sich eine mitreißende Geschichte über
  erste Liebe\, Selbstfindung und den Mut\, über sich hinauszuwachsen. Mit
  ikonischen Tanzszenen\, einem legendären Soundtrack und spürbarer Chemi
 e zwischen den Hauptfiguren zieht der Film bis heute in seinen Bann – ro
 mantisch\, sinnlich und einfach zeitlos.\n\n\n\n\n\n\n\n\n\nTickets für D
 irty Dancing erhalten Sie für je 10 Euro im Vorverkauf in der Rendsburg I
 nformation am Altstädter Markt\, freitags von 11 bis 17 Uhr auf dem Woche
 nmarkt in der Nordmarkhalle und an der Abendkasse.\n\n
ATTACH;FMTTYPE=image/jpeg:https://www.rendsburg-eckernfoerde-aktuell.de/wp
 -content/uploads/2026/04/Dirty-Dancing-Web.jpg
CATEGORIES:Kino
LOCATION:Nordmarkhalle\, Willy-Brandt-Platz 1\, Rendsburg\, 24768\, Deutsch
 land
GEO:54.3008902;9.675795200000039
X-APPLE-STRUCTURED-LOCATION;VALUE=URI;X-ADDRESS=Willy-Brandt-Platz 1\, Rend
 sburg\, 24768\, Deutschland;X-APPLE-RADIUS=100;X-TITLE=Nordmarkhalle:geo:5
 4.3008902,9.675795200000039
END:VEVENT
BEGIN:VTIMEZONE
TZID:Europe/Berlin
X-LIC-LOCATION:Europe/Berlin
BEGIN:DAYLIGHT
DTSTART:20260329T030000
TZOFFSETFROM:+0100
TZOFFSETTO:+0200
TZNAME:CEST
END:DAYLIGHT
END:VTIMEZONE
END:VCALENDAR