BEGIN:VCALENDAR
VERSION:2.0
PRODID:-//wp-events-plugin.com//7.2.3.1//EN
BEGIN:VEVENT
UID:9475@rendsburg-eckernfoerde-aktuell.de
DTSTART;TZID=Europe/Berlin:20260503T110000
DTEND;TZID=Europe/Berlin:20260503T130000
DTSTAMP:20260424T123251Z
URL:https://rendsburg-eckernfoerde-aktuell.de/Veranstaltungen/green-screen
 -tour/
SUMMARY:Green Screen Tour
DESCRIPTION:\n\n\n\n\n\n\n\n\n\n\n\n\n\n\n\n\nJedes Jahr im September werde
 n auf dem Green Screen Naturfilmfestival in Eckernförde\, dem besucherst
 ärksten Naturfilm-Event Europas\, die besten Filme und aufregendsten Doku
 mentationen des Jahres prämiert. Der bekannte TV-Moderator und Festivalle
 iter Dirk Steffens wählt mit seiner Crew dann die faszinierendsten Beitr
 äge für die Green Screen Filmtour aus. Steffens und die anderen Jury-Mit
 glieder hatten bei der Vielfalt der eingereichten Festivalfilme wirklich d
 ie Qual der Wahl: „Unser Filmtour-Programm zeigt wieder die besten Natur
 filme auf höchsten internationalem Niveau. Dabei werden sich die ausgewä
 hlten Filme aber auch wieder intensiv mit den drängenden Natur-Themen Wil
 dnis-Bewahrung\, Bio-Diversität und Klimawandel auseinander setzen!"\nAll
 esamt werden sie nominiert oder ausgezeichnet sein auf dem GREEN SCREEN Na
 turfilmfestival 2025. Teilweise neu editiert oder auch mit Untertiteln in 
 deutscher Sprache erscheinen sie dann im neuen Glanz im Filmtour-Programm 
 – ein faszinierendes Potpourri der bewegendsten Szenen aus den neuen Fes
 tival-Jahrgang.&nbsp\;\n\nDas „Best of“ der Naturfilme 2025 aus der ga
 nzen Welt in ca. 100 Min. auf großer Kinoleinwand!\n\n
ATTACH;FMTTYPE=image/jpeg:https://www.rendsburg-eckernfoerde-aktuell.de/wp
 -content/uploads/2026/04/Green-Screen-Web-Hochformat-2.jpg
CATEGORIES:Kino
LOCATION:Nordmarkhalle\, Willy-Brandt-Platz 1\, Rendsburg\, 24768\, Deutsch
 land
GEO:54.3008902;9.675795200000039
X-APPLE-STRUCTURED-LOCATION;VALUE=URI;X-ADDRESS=Willy-Brandt-Platz 1\, Rend
 sburg\, 24768\, Deutschland;X-APPLE-RADIUS=100;X-TITLE=Nordmarkhalle:geo:5
 4.3008902,9.675795200000039
END:VEVENT
BEGIN:VTIMEZONE
TZID:Europe/Berlin
X-LIC-LOCATION:Europe/Berlin
BEGIN:DAYLIGHT
DTSTART:20260329T030000
TZOFFSETFROM:+0100
TZOFFSETTO:+0200
TZNAME:CEST
END:DAYLIGHT
END:VTIMEZONE
END:VCALENDAR