BEGIN:VCALENDAR
VERSION:2.0
PRODID:-//wp-events-plugin.com//7.2.3.1//EN
BEGIN:VEVENT
UID:9474@rendsburg-eckernfoerde-aktuell.de
DTSTART;TZID=Europe/Berlin:20260502T190000
DTEND;TZID=Europe/Berlin:20260502T220000
DTSTAMP:20260424T123044Z
URL:https://rendsburg-eckernfoerde-aktuell.de/Veranstaltungen/internationa
 l-ocean-film-tour/
SUMMARY:International Ocean Film Tour
DESCRIPTION:\n\n\n\n\n\n\n\n\n\n\n\n\n\n\n\n\nFaszinierende Geschichten aus
  der Welt der Ozeane auf der großen Leinwand. Die fünf neuen Filme der I
 nternational Ocean Film Tour Vol. 12 erzählen von Menschen\, die das Meer
  lieben und alles dafür tun\, diesen einzigartigen Lebensraum zu bewahren
 . Menschen\, die Aufbruch und Veränderung wagen. Ein unverwechselbarer Mi
 x aus allen Arten von Wassersport und Meeresabenteuern – ein Programm vo
 ller spannender Geschichten\, Inspiration und Denkanstöße.\n\nFünf Film
 e in 120 Min · Originalton mit Untertiteln in lokaler Landessprache · Li
 ve-Moderation · Pause · ca. 2\,5–3 Stunden gesamt\n\n
ATTACH;FMTTYPE=image/jpeg:https://www.rendsburg-eckernfoerde-aktuell.de/wp
 -content/uploads/2026/04/Ocean-Film-Tour-Web-Hochformat-2.jpg
CATEGORIES:Kino
LOCATION:Nordmarkhalle\, Willy-Brandt-Platz 1\, Rendsburg\, 24768\, Deutsch
 land
GEO:54.3008902;9.675795200000039
X-APPLE-STRUCTURED-LOCATION;VALUE=URI;X-ADDRESS=Willy-Brandt-Platz 1\, Rend
 sburg\, 24768\, Deutschland;X-APPLE-RADIUS=100;X-TITLE=Nordmarkhalle:geo:5
 4.3008902,9.675795200000039
END:VEVENT
BEGIN:VTIMEZONE
TZID:Europe/Berlin
X-LIC-LOCATION:Europe/Berlin
BEGIN:DAYLIGHT
DTSTART:20260329T030000
TZOFFSETFROM:+0100
TZOFFSETTO:+0200
TZNAME:CEST
END:DAYLIGHT
END:VTIMEZONE
END:VCALENDAR