BEGIN:VCALENDAR
VERSION:2.0
PRODID:-//wp-events-plugin.com//7.2.3.1//EN
BEGIN:VEVENT
UID:9472@rendsburg-eckernfoerde-aktuell.de
DTSTART;TZID=Europe/Berlin:20260426T120000
DTEND;TZID=Europe/Berlin:20260426T170000
DTSTAMP:20260424T122334Z
URL:https://rendsburg-eckernfoerde-aktuell.de/Veranstaltungen/rendsburg-ma
 cht-mobil/
SUMMARY:Rendsburg macht mobil
DESCRIPTION:\n\nAm kommenden Sonntag steht die ganze Innenstadt im Zeichen 
 der Mobilität. Beim Aktionstag Rendsburg macht mobil erwarten Sie rund 60
  regionale Aussteller*innen aus allen Bereichen\, die etwas bewegen: Auto-
  und Fahrradhändler*innen\, Vereine\, Verbände und Organisationen präse
 ntieren sich und ihre Angebote\, zudem gibt es ein Kinderprogramm\, ein mo
 biles Planetarium und am Obereiderhafen erstmals eine große Blaulichtmeil
 e. Gleichzeitig öffnen die Geschäfte von 12 bis 17 Uhr zum Sonntagsshopp
 ing ihre Türen.Alle Informationen zu Rendsburg macht mobil finden Sie HIE
 R.
ATTACH;FMTTYPE=image/jpeg:https://www.rendsburg-eckernfoerde-aktuell.de/wp
 -content/uploads/2026/04/kachel_machtmobil_website-e1777033365896.png
CATEGORIES:Sonstiges
LOCATION:Hohe Straße\, Hohe Straße\, Rendsburg\, 24937\, Deutschland
GEO:54.30508450000001;9.66200040000001
X-APPLE-STRUCTURED-LOCATION;VALUE=URI;X-ADDRESS=Hohe Straße\, Rendsburg\, 
 24937\, Deutschland;X-APPLE-RADIUS=100;X-TITLE=Hohe Straße:geo:54.3050845
 0000001,9.66200040000001
END:VEVENT
BEGIN:VTIMEZONE
TZID:Europe/Berlin
X-LIC-LOCATION:Europe/Berlin
BEGIN:DAYLIGHT
DTSTART:20260329T030000
TZOFFSETFROM:+0100
TZOFFSETTO:+0200
TZNAME:CEST
END:DAYLIGHT
END:VTIMEZONE
END:VCALENDAR